BEGIN:VCALENDAR
VERSION:2.0
PRODID:icalendar-ruby
CALSCALE:GREGORIAN
METHOD:PUBLISH
BEGIN:VEVENT
DTSTAMP:20260421T082108Z
UID:24-440335@apostleschurch.org
DTSTART:20250210T003000Z
DTEND:20250210T013000Z
CLASS:PUBLIC
CREATED:20260420T163954
DESCRIPTION:
LAST-MODIFIED:20260420T163954
LOCATION:Fremont Abbey
SUMMARY:Weekly Sunday Service
URL;VALUE=URI:https://apostleschurch.org/events/weekly-sunday-service/2025-
 02-09
END:VEVENT
END:VCALENDAR
